BEGIN:VCALENDAR
VERSION:2.0
PRODID:-//HuG Kenzingen - ECPv6.5.1//NONSGML v1.0//EN
CALSCALE:GREGORIAN
METHOD:PUBLISH
X-WR-CALNAME:HuG Kenzingen
X-ORIGINAL-URL:https://hugkenzingen.de
X-WR-CALDESC:Veranstaltungen für HuG Kenzingen
REFRESH-INTERVAL;VALUE=DURATION:PT1H
X-Robots-Tag:noindex
X-PUBLISHED-TTL:PT1H
BEGIN:VTIMEZONE
TZID:Europe/Berlin
BEGIN:DAYLIGHT
TZOFFSETFROM:+0100
TZOFFSETTO:+0200
TZNAME:CEST
DTSTART:20240331T010000
END:DAYLIGHT
BEGIN:STANDARD
TZOFFSETFROM:+0200
TZOFFSETTO:+0100
TZNAME:CET
DTSTART:20241027T010000
END:STANDARD
END:VTIMEZONE
BEGIN:VEVENT
DTSTART;VALUE=DATE:20241201
DTEND;VALUE=DATE:20250101
DTSTAMP:20260421T085438
CREATED:20241125T101619Z
LAST-MODIFIED:20241129T094025Z
UID:2541-1733011200-1735689599@hugkenzingen.de
SUMMARY:Breisgauer Winter Kenzingen 2024
DESCRIPTION:Save the Date
URL:https://hugkenzingen.de/veranstaltung/breisgauer-winter-kenzingen-2024/
CATEGORIES:Anstehend
ATTACH;FMTTYPE=image/jpeg:https://hugkenzingen.de/wp-content/uploads/1.jpg
END:VEVENT
BEGIN:VEVENT
DTSTART;VALUE=DATE:20241201
DTEND;VALUE=DATE:20250101
DTSTAMP:20260421T085438
CREATED:20241125T101920Z
LAST-MODIFIED:20241125T101920Z
UID:2551-1733011200-1735689599@hugkenzingen.de
SUMMARY:Weihnachtslotterie KenzingenCard 2024
DESCRIPTION:Save the Date
URL:https://hugkenzingen.de/veranstaltung/weihnachtslotterie-kenzingencard-2024/
CATEGORIES:Anstehend
ATTACH;FMTTYPE=image/jpeg:https://hugkenzingen.de/wp-content/uploads/KenzingenCARD_Insta-post_1080x1350_Weihnachtslotterie_2024.jpg
END:VEVENT
END:VCALENDAR